BEGIN:VCALENDAR
VERSION:2.0
PRODID:icalendar-ruby
CALSCALE:GREGORIAN
METHOD:PUBLISH
BEGIN:VTIMEZONE
TZID:Australia/Sydney
BEGIN:DAYLIGHT
DTSTART:20181007T030000
TZOFFSETFROM:+1000
TZOFFSETTO:+1100
RRULE:FREQ=YEARLY;BYDAY=1SU;BYMONTH=10
TZNAME:AEDT
END:DAYLIGHT
BEGIN:STANDARD
DTSTART:20190407T020000
TZOFFSETFROM:+1100
TZOFFSETTO:+1000
RRULE:FREQ=YEARLY;BYDAY=1SU;BYMONTH=4
TZNAME:AEST
END:STANDARD
END:VTIMEZONE
BEGIN:VEVENT
DTSTAMP:20190301T171515Z
UID:inspection_485744
DTSTART;TZID=Australia/Sydney:20190302T150000
DTEND;TZID=Australia/Sydney:20190302T153000
CLASS:PUBLIC
CREATED:20190227T102205
DESCRIPTION: 
LAST-MODIFIED:20190227T102205
LOCATION:13 / 4-6 Peggy Street\, MAYS HILL NSW 2145\, Australia
SUMMARY:13 / 4-6 Peggy Street\,  Inspection
URL:https://blueprintproperty.com.au/
END:VEVENT
END:VCALENDAR
